Workbook
Name allowance: Sheet1!$F$35
Name defer: Sheet1!$F$32
Name mrate: Sheet1!$H$15
Name rate: Sheet1!$F$36
Name Sale_price: Sheet2!$A$4
Name state: Sheet1!$F$31
Name vrate: Sheet1!#REF!
Name years: Sheet1!$H$16

Sheet Sheet1
A1: Rough calculation of available funds for flat purchase
C2: 43745
A3: Current surplus in bank | B3: 0 | C3: 200000
A4: JEJT contingency | B4: 0 | C4: =B4 -> 0
A6: Available for down payment and costs | B6: =SUM(B3:B5) -> 0 | C6: =Sheet2!D13 -> 194234.9 | E6: =12*PMT(vrate/12,years*12,C5) -> #REF! | F6: 43745
A7: Available for down payment | B7: =B6+E16 -> -33104 | C7: =C6+E16 -> 161130.9 | E7: =-vrate*C5 -> #REF! | F7: Interest only
A9: CWT annual salary @ 0.5FTE, net | B9: 30480 | C9: =2592*12 -> 31104
A10: CWT annual pension @75%, net | B10: =0.75*J10 -> 12030.3 | C10: =J10 -> 16040.4 | D10: Gross | E10: =J10/0.8 -> 20050.5 | F10: Net | G10: =15790/0.75 -> 21053.333 | H10: Actual net 7/10 | I10: 1336.7 | J10: =I10*12 -> 16040.4
A11: HT annual salary @0.5 FTE, net | B11: 24468 | C11: =2250*12 -> 27000
A12: HT annual pension @75% | B12: =0.75*G12 -> 17582.4 | C12: =G12 -> 23443.2 | D12: Gross | E12: =G12/0.8 -> 29304 | F12: Actual net | G12: =1953.6*12 -> 23443.2 | I12: Disposition | J12: 480
A13: Annual income estimated from 1Aug2019 (net of tax) | B13: =SUM(B9:B12) -> 84560.7 | C13: =SUM(C9:C12) -> 97587.6 | D13: =C13/12 -> 8132.3 | I13: Standard Security | J13: 60
C14: =C13/12 -> 8132.3 | I14: LBTT | J14: =8350*-E15/350000 -> -10735.714
A15: Mortgage from e.g. HSBC | B15: 270000 | C15: =E19 -> 611130.9 | D15: Cost | E15: 450000 | G15: mrate | H15: 0.0499 | I15: ADS | J15: =14000*-E15/350000 -> -18000
A16: Annual mortgage payment | B16: =F18 -> 94385.184 | C16: =F19 -> 8494.7195 | D16: Cost of sale | E16: =-Sheet2!C13 -> -33104 | G16: years | H16: 5 | I16: Altis | J16: 30
A17: Annual overdraft payment | B17: =E5 -> 0 | C17: -1000 | I17: Fee+VAT | J17: 1800
A18: That leaves us to live on annually | B18: =B13+B16+B17 -> 178945.88 | C18: =C13+C16+C17+12*Sheet2!A27 -> 101911.56 | D18: Less deposit | E18: =E15+B7 -> 416896 | F18: =-12*PMT(mrate/12,years*12,E18) -> 94385.184 | G18: annual cost of mortgage | J18: =SUM(J12:J17) -> -26365.714
A19: That leaves us to live on per month | B19: =B18/12 -> 14912.157 | C19: =C18/12 -> 8492.6296 | E19: =E15+C7 -> 611130.9 | F19: =1.39%*E19 -> 8494.7195
A20: We currently spend £2,800/month on regular payments plus cash | B20: 2800 | C20: 2800 | F20: =F19/12 -> 707.89329
A21: What we'd have to limit ourselves to on credit card (~ 1/2 of what we currenly spend) | B21: =B19-B20 -> 12112.157 | C21: =C19-C20 -> 5692.6296
G22: interest only | H22: 0.0139
A23: BUT also get remainder of lump sum when fully retire | D23: Rent | E23: 1400 | G23: Annual cost | H23: =H22*E19 -> 8494.7195
A24: MINUS salary, PLUS remaining 25% of pension | D24: Net of tax and expenses | E24: =E23*0.8-100 -> 1020 | G24: Monthly | H24: =H23/12 -> 707.89329
G25: Annual net | H25: =C13+H23+E7 -> #REF!
A26: Suppose we fully retire | C26: 80267.9 | G26: Monthly net | H26: =H25/12 -> #REF!
A27: Estimate of Cath lump sum when fully retire | B27: =80000/3 -> 26666.667 | C27: =C26/3 -> 26755.967
A28: Estimate of HST lump sum when fully retire | B28: =#REF!/3 -> #REF! | C28: =#REF!/3 -> #REF!
A29: Likely lump sum remainder | B29: =SUM(B27:B28) -> #REF! | C29: =SUM(C27:C28) -> #REF!
A30: Waterdell sale estimate | C30: 150000 | G30: Balance | H30: =C29+C30+E19 -> #REF!
A31: Estimate of Cath income when fully retired - gross pension | B31: =E10+state+(3*defer*state) -> 28643.313 | C31: =state+(3*defer*state) -> 8592.8128 | F31: 6549.4
A32: Estimate of Henry income when fully retired - gross pension | B32: =E12+state+state*defer*5 -> 39259.088 | C32: =state+state*defer*5 -> 9955.088 | E32: state | F32: 0.104
A33: Gross annual income once fully retired | B33: =SUM(B31:B32) -> 67902.401 | C33: =SUM(C31:C32) -> 18547.901 | D33: (state only) | E33: defer++
A35: Taxable | B35: =B33-2*allowance -> 44202.401 | C35: 0 | F35: 11850
A36: After tax | B36: =B33-(B35*rate) -> 59061.921 | C36: =C33+((E12+J10)*0.8)+12*E24 -> 67063.421 | D36: now including main pension) | E36: allowance | F36: 0.2
A37: Per month | B37: =B36/12 -> 4921.8267 | C37: =C36/12 -> 5588.6184 | E37: rate
A38: Monthly income, net of tax and mortgage | B38: =B37+(B16+B17)/12 -> 12787.259 | C38: =C37+(C16+C17)/12 -> 6213.1784 | H38: =C37+H24 -> 6296.5117
A40: So, unless we use W'dell to pay off mortgage, we're in trouble…
A41: Every 10000 we add to the purchase price costs us 200/mo
A42: Or, every 10000 we take off the price only saves us 200/mo
A44: Triodos
A45: Cash ISA HST | B45: =31063.77 -> 31063.77
...

Sheet Sheet2
A1: Funding the purchase of 4 Chichester House in Cambridge
A2: This version: 16 June 2025
A3: Sale price | B3: Cost of purchase | D3: Savings
A4: 350000 | B4: Disposition | C4: 480 | D4: 200000 | E4: From liquidations
B5: Standard Security | C5: 60 | D5: 65028.95 | E5: Ecology BS CWT | F5: Cash ISA | G5: 3901011738 | H5: 08-90-72
B6: Stamp Duty | C6: =8%*Sale_price -> 28000 | D6: 32787.64 | E6: Ecology BS HST | F6: Cash ISA | G6: 3901011716 | H6: 08-90-72
B7: ADS | C7: 0 | D7: 22030.11 | E7: Skipton BS HST | F7: Cash ISA | G7: 923763564 | H7: 20 - 78 - 91
B8: Altis | C8: 30 | D8: 25709.38 | E8: Triodos HST | F8: Cash ISA | G8: 20689470 | H8: 16-58-10
B9: Loan fee | C9: 1499 | D9: 37550.87 | E9: Triodos CWT | F9: Cash ISA | G9: 20689489 | H9: 16-58-10
B10: Transfer fee | C10: 35 | D10: 11127.95 | E10: Triodos CWT | F10: Savings | G10: 22246088 | H10: 16-58-10
B11: Letting agent
B12: Fee+VAT | C12: 3000 | D12: 0 | E12: Overdraft
B13: Total | C13: =SUM(C4:C12) -> 33104 | D13: =SUM(D5:D12) -> 194234.9 | E13: Total
A15: =-Sale_price -> -350000 | B15: Sale Price
A16: =-C13 -> -33104 | B16: Cost of Purchase
A17: =D13 -> 194234.9 | B17: Cash contribution
A18: =SUM(A15:A17) -> -188869.1 | B18: Loan requirement
A19: =A18/A15 -> 0.539626 | B19: LTV | F19: CHAPS ordered from V1 at 2020-01-22 0855, Greg
A20: Monthly net
A21: =A$18*B21/12 -> -629.56367 | B21: 0.04 | C21: 2-year fixed interest-only loan rate
A22: =-B22/12 -> -12.5 | B22: 150 | C22: Contents insurance?
A23: =-B23*A24 -> -110 | B23: 0.1 | C23: Management fee
A24: =B24 -> 1100 | B24: 1100 | C24: Belford Rent
A25: =-B25/12 -> -416.66667 | B25: 5000 | C25: Contingencies
A26: =SUM(A22:A24)*-B26 -> -195.5 | B26: 0.2 | C26: Tax
A27: =SUM(A21:A26) -> -264.23033 | B27: Net monthly income
A29: Capital expectations
A30: 26755.967 | B30: CWT remaining lump
A31: 30867.267 | B31: HST remaining lump
A33: Liquid savings
A34: =2*Sheet1!B46 -> 62127.54 | B34: Cash ISAs, Triodos
A35: =2*(Sheet1!B47-E35) -> 19920 | C35: Savings, Ecology BS | E35: 1000
A36: 1170 | B36: CWT Skipton
A38: 267304 | B38: Actual loan
A39: =A18+A38 -> 78434.9 | B39: Shortfall
A40: =2*B40 -> 0 | B40: 0 | C40: from each Cash ISA
A41: =A39+A40 -> 78434.9 | B41: Net full-cost balance
A43: =-A38 -> -267304 | B43: Loan
A44: =SUM(A30:A31) -> 57623.233 | B44: Lump sums
A45: =#REF! -> #REF! | B45: Waterdell
...
